Workbook

Sheet Feuille d'inscription
B1: Inscription Régate d’aviron de mer « Léman-sur-mer »
B2: Samedi 16 octobre 2021
B4: A retourner par mail avant le 24 septembre, 12h, à : | C4: leman-sur-mer@lsaviron.ch
A6: CLUB | B6: Prénom et NOM du délégué | C6: Tel délégué | D6: Mail délégué
C9: Les engagements et les résultats en temps réel seront accessibles en ligne sur : | D9: https://www.crewtimer.com
A11: MODE D'EMPLOI
A12: 1 fiche par club | C12: Catégorie Open: | D12: Décharge à signer par chaque participant·e (voir annexe 3, bientôt à télécharger sur www.lsaviron.ch)
A13: 1 ligne par équipage
A14: La première ligne est un exemple. Merci de la supprimer avant envoi.
A15: Epreuve | B15: Club, n° équipage et composition de l'équipage | C15: N° de licence des membres de l'équipage (pour les clubs suisses, sauf pour la catégorie open) | D15: N° identification du bateau (numéro inscrit sur la proue du bateau, voir avant-programme. Si vous n'avez pas de numéro, laisser vide) | E15: Nom barreur (ou chef de bord) | F15: Téléphone des chef·fes de bord (pour le jour de la régate): | G15: Equipage Masters ? (composé de rameur·ses tous âgés de 40 ans et plus, dans l'année, voir avant-programme) | H15: Prix droits d’engagement (pour la catégorie open, voir le 2e onglet "Tarifs") | I15: Souhaitez-vous louer un bateau pour cet équipage? | J15: Prix location de bateau, par course (pour la catégorie open, voir le 2e onglet "Tarifs")
A16: W C4x+ | B16: Lausanne-Sports Aviron 2 (VIVIER Elsa / VIVIER Marie / LEGUILLOU Lucile / MORIZOT Quitterie, barreur : GENOUVRIER Marc) | D16: 740 | E16: VIVIER Elsa | G16: non | H16: =IFERROR(VLOOKUP(A16,Configuration!$B$5:$D$17,2,FALSE),"") -> 80 | I16: oui | J16: 100
A17: Choisissez dans le menu déroulant | H17: =IFERROR(VLOOKUP(A17,Configuration!$B$5:$D$17,2,FALSE),"") | J17: =IF(I17="oui",VLOOKUP(A17,Configuration!$B$5:$D$17,2,FALSE),"")
A18: Choisissez dans le menu déroulant | J18: =IF(I18="oui",VLOOKUP(A18,Configuration!$B$5:$D$17,2,FALSE),"")
A19: Choisissez dans le menu déroulant | H19: =IFERROR(VLOOKUP(A19,Configuration!$B$5:$D$17,2,FALSE),"") | J19: =IF(I19="oui",VLOOKUP(A19,Configuration!$B$5:$D$17,2,FALSE),"")
A20: Choisissez dans le menu déroulant | H20: =IFERROR(VLOOKUP(A20,Configuration!$B$5:$D$17,2,FALSE),"") | J20: =IF(I20="oui",VLOOKUP(A20,Configuration!$B$5:$D$17,2,FALSE),"")
A21: Choisissez dans le menu déroulant | H21: =IFERROR(VLOOKUP(A21,Configuration!$B$5:$D$17,2,FALSE),"") | J21: =IF(I21="oui",VLOOKUP(A21,Configuration!$B$5:$D$17,2,FALSE),"")
A22: Choisissez dans le menu déroulant | H22: =IFERROR(VLOOKUP(A22,Configuration!$B$5:$D$17,2,FALSE),"") | J22: =IF(I22="oui",VLOOKUP(A22,Configuration!$B$5:$D$17,2,FALSE),"")
A23: Choisissez dans le menu déroulant | H23: =IFERROR(VLOOKUP(A23,Configuration!$B$5:$D$17,2,FALSE),"") | J23: =IF(I23="oui",VLOOKUP(A23,Configuration!$B$5:$D$17,2,FALSE),"")
A24: Choisissez dans le menu déroulant | H24: =IFERROR(VLOOKUP(A24,Configuration!$B$5:$D$17,2,FALSE),"") | J24: =IF(I24="oui",VLOOKUP(A24,Configuration!$B$5:$D$17,2,FALSE),"")
A25: Choisissez dans le menu déroulant | H25: =IFERROR(VLOOKUP(A25,Configuration!$B$5:$D$17,2,FALSE),"") | J25: =IF(I25="oui",VLOOKUP(A25,Configuration!$B$5:$D$17,2,FALSE),"")
G27: TOTAL : | H27: =SUM(H16:H25) -> 80 | J27: =SUM(J16:J25) -> 100 | K27: =H27+J27 -> 180

Sheet Tarifs
A4: Catégorie | B4: Montant d'inscription (en francs) | E4: Bateaux | F4: Montant de la location du bateau par course (en francs)
A5: U19W C4x+ | B5: =VLOOKUP(A5,Configuration!$B$5:$C$16,2,FALSE) -> 80 | E5: C4x+ | F5: =VLOOKUP(E5,Configuration!$G$5:$H$7,2,FALSE) -> 100
A6: U19M C4x+ | B6: =VLOOKUP(A6,Configuration!$B$5:$C$16,2,FALSE) -> 80 | E6: C2x | F6: =VLOOKUP(E6,Configuration!$G$5:$H$7,2,FALSE) -> 60
A7: U19W C2x | B7: =VLOOKUP(A7,Configuration!$B$5:$C$16,2,FALSE) -> 40 | E7: C1x | F7: =VLOOKUP(E7,Configuration!$G$5:$H$7,2,FALSE) -> 40
A8: U19M C2x | B8: =VLOOKUP(A8,Configuration!$B$5:$C$16,2,FALSE) -> 40
A9: W C4x+ | B9: =VLOOKUP(A9,Configuration!$B$5:$C$16,2,FALSE) -> 80
A10: W C2x | B10: =VLOOKUP(A10,Configuration!$B$5:$C$16,2,FALSE) -> 40
A11: W C1x | B11: =VLOOKUP(A11,Configuration!$B$5:$C$16,2,FALSE) -> 20
A12: M C4x+ | B12: =VLOOKUP(A12,Configuration!$B$5:$C$16,2,FALSE) -> 80
A13: M C2x | B13: =VLOOKUP(A13,Configuration!$B$5:$C$16,2,FALSE) -> 40
A14: M C1x | B14: =VLOOKUP(A14,Configuration!$B$5:$C$16,2,FALSE) -> 20
A15: Mix C4x+ | B15: =VLOOKUP(A15,Configuration!$B$5:$C$16,2,FALSE) -> 80
A16: Mix C2x | B16: =VLOOKUP(A16,Configuration!$B$5:$C$16,2,FALSE) -> 40
A17: Open | B17: 20 francs par rameur·se (gratuit pour les barreur·ses)

Sheet Configuration
D3: =SEARCH(" C",B5) -> 5
B4: Liste des 13 épreuves | C4: Prix inscriptions | D4: Location | H4: Location
B5: U19W C4x+ | C5: =4*$C$19 -> 80 | D5: =VLOOKUP(RIGHT(B5,LEN(B5)-SEARCH(" C",B5)),$G$5:$H$7,2,FALSE) -> 100 | G5: C4x+ | H5: 100
B6: U19M C4x+ | C6: =4*$C$19 -> 80 | D6: =VLOOKUP(RIGHT(B6,LEN(B6)-SEARCH(" C",B6)),$G$5:$H$7,2,FALSE) -> 100 | G6: C2x | H6: 60
B7: U19W C2x | C7: =2*$C$19 -> 40 | D7: =VLOOKUP(RIGHT(B7,LEN(B7)-SEARCH(" C",B7)),$G$5:$H$7,2,FALSE) -> 60 | G7: C1x | H7: 40
B8: U19M C2x | C8: =2*$C$19 -> 40 | D8: =VLOOKUP(RIGHT(B8,LEN(B8)-SEARCH(" C",B8)),$G$5:$H$7,2,FALSE) -> 60
B9: W C4x+ | C9: =4*$C$19 -> 80 | D9: =VLOOKUP(RIGHT(B9,LEN(B9)-SEARCH(" C",B9)),$G$5:$H$7,2,FALSE) -> 100
B10: W C2x | C10: =2*$C$19 -> 40 | D10: =VLOOKUP(RIGHT(B10,LEN(B10)-SEARCH(" C",B10)),$G$5:$H$7,2,FALSE) -> 60
B11: W C1x | C11: =1*$C$19 -> 20 | D11: =VLOOKUP(RIGHT(B11,LEN(B11)-SEARCH(" C",B11)),$G$5:$H$7,2,FALSE) -> 40
B12: M C4x+ | C12: =4*$C$19 -> 80 | D12: =VLOOKUP(RIGHT(B12,LEN(B12)-SEARCH(" C",B12)),$G$5:$H$7,2,FALSE) -> 100
B13: M C2x | C13: =2*$C$19 -> 40 | D13: =VLOOKUP(RIGHT(B13,LEN(B13)-SEARCH(" C",B13)),$G$5:$H$7,2,FALSE) -> 60
B14: M C1x | C14: =1*$C$19 -> 20 | D14: =VLOOKUP(RIGHT(B14,LEN(B14)-SEARCH(" C",B14)),$G$5:$H$7,2,FALSE) -> 40
B15: Mix C4x+ | C15: =4*$C$19 -> 80 | D15: =VLOOKUP(RIGHT(B15,LEN(B15)-SEARCH(" C",B15)),$G$5:$H$7,2,FALSE) -> 100
B16: Mix C2x | C16: =2*$C$19 -> 40 | D16: =VLOOKUP(RIGHT(B16,LEN(B16)-SEARCH(" C",B16)),$G$5:$H$7,2,FALSE) -> 60
B17: Open
B19: Prix d'inscription par rameur | C19: 20
